BEGIN:VCALENDAR
PRODID:-//Session events Calendar//IBA//EN
CALSCALE:GREGORIAN
VERSION:2.0
BEGIN:VEVENT
DTSTAMP:20260422T015954Z
DTSTART:20221102T000000Z
DTEND:20221102T030000Z
SUMMARY:Art\, Cultural Institutions and Heritage Law Committee dinner
DESCRIPTION:Price: $146\n\nBook social event\n
LOCATION:Sardinia
UID:abd6c9af-8a66-4445-9de7-75290c5f4645
END:VEVENT
END:VCALENDAR
