BEGIN:VCALENDAR
PRODID:-//Session events Calendar//IBA//EN
CALSCALE:GREGORIAN
VERSION:2.0
BEGIN:VEVENT
DTSTAMP:20260422T033625Z
DTSTART:20221101T233000Z
DTEND:20221102T023000Z
SUMMARY:Aviation Law Committee dinner
DESCRIPTION:Price: $146\n\nBook social event\n
LOCATION:Sardinia
UID:01a816e6-3496-4dd5-a914-d003255e0b1d
END:VEVENT
END:VCALENDAR
