BEGIN:VCALENDAR
PRODID:-//Session events Calendar//IBA//EN
CALSCALE:GREGORIAN
VERSION:2.0
BEGIN:VEVENT
DTSTAMP:20260422T015953Z
DTSTART:20221101T230000Z
DTEND:20221102T020000Z
SUMMARY:Taxation Section dinner
DESCRIPTION:Price: $215\n\nBook social event\n
LOCATION:Smith & Wollensky
UID:c759a143-8d04-4985-b5e7-3d696839e6e9
END:VEVENT
END:VCALENDAR
