BEGIN:VCALENDAR
PRODID:-//Session events Calendar//IBA//EN
CALSCALE:GREGORIAN
VERSION:2.0
BEGIN:VEVENT
DTSTAMP:20260422T033626Z
DTSTART:20221101T230000Z
DTEND:20221102T030000Z
SUMMARY:Corporate and M&A Law Committee dinner
DESCRIPTION:Price: $225\n\nBook social event\n\n\n
LOCATION:Glimmer @ Fontainebleau Miami Beach
UID:9e5cfb93-32d5-4ee5-ac81-aa33e1745d9f
END:VEVENT
END:VCALENDAR
