BEGIN:VCALENDAR
PRODID:-//Session events Calendar//IBA//EN
CALSCALE:GREGORIAN
VERSION:2.0
BEGIN:VEVENT
DTSTAMP:20260422T033626Z
DTSTART:20221102T000000Z
DTEND:20221102T030000Z
SUMMARY:Capital Markets Forum dinner
DESCRIPTION:Price: $180\n
LOCATION:Smith & Wollensky
UID:9811d7c2-1bf8-472f-80ad-de239dadd8e7
END:VEVENT
END:VCALENDAR
