BEGIN:VCALENDAR
PRODID:-//Session events Calendar//IBA//EN
CALSCALE:GREGORIAN
VERSION:2.0
BEGIN:VEVENT
DTSTAMP:20260422T020007Z
DTSTART:20221101T124500Z
DTEND:20221101T193000Z
SUMMARY:Committees on Insurance Law and Maritime and Transport Law joint 
 excursion and lunch
DESCRIPTION:Price: $188\n\nCoaches will depart from the main entrance of 
 Miami Beach Convention Center\, Convention Center Drive at 0845am\n\nBoo
 k social event\n
LOCATION:Everglades Safari Park and lunch at High Tide South Beach
UID:e9d0bfc2-79da-4899-abe8-b9d1b2d411e2
END:VEVENT
END:VCALENDAR
