BEGIN:VCALENDAR
PRODID:-//Session events Calendar//IBA//EN
CALSCALE:GREGORIAN
VERSION:2.0
BEGIN:VEVENT
DTSTAMP:20260422T020002Z
DTSTART:20221031T230000Z
DTEND:20221101T030000Z
SUMMARY:LGBTI Law Committee dinner
DESCRIPTION:Price: $115\n
LOCATION:Havana 1957 - Lincoln Road
UID:f0277d5f-266b-4f82-bc0d-198cafc2b4ac
END:VEVENT
END:VCALENDAR
