BEGIN:VCALENDAR
PRODID:-//Session events Calendar//IBA//EN
CALSCALE:GREGORIAN
VERSION:2.0
BEGIN:VEVENT
DTSTAMP:20260422T020006Z
DTSTART:20221031T230000Z
DTEND:20221101T020000Z
SUMMARY:International Franchising Committee dinner
DESCRIPTION:Price: $240\n\nBook social event\n
LOCATION:The Green House at Baia Beach Club
UID:02194103-a455-4249-80e3-b08226927568
END:VEVENT
END:VCALENDAR
