BEGIN:VCALENDAR
PRODID:-//Session events Calendar//IBA//EN
CALSCALE:GREGORIAN
VERSION:2.0
BEGIN:VEVENT
DTSTAMP:20260422T015952Z
DTSTART:20221031T220000Z
DTEND:20221101T010000Z
SUMMARY:Human Rights Law Committee dinner
DESCRIPTION:HumanRights\nPrice: $146\n\nBook social event\n
LOCATION:Sardinia
UID:5207e1a5-be46-4ca4-ac0d-1f22885aa3a5
END:VEVENT
END:VCALENDAR
