BEGIN:VCALENDAR
PRODID:-//Session events Calendar//IBA//EN
CALSCALE:GREGORIAN
VERSION:2.0
BEGIN:VEVENT
DTSTAMP:20260422T015905Z
DTSTART:20221031T173000Z
DTEND:20221031T193000Z
SUMMARY:Mediation Committee lunch
DESCRIPTION:Price: $208\n\nBook social event\n
LOCATION:The Green House at Baia Beach Club
UID:28f45849-ebb1-4fc6-b096-8285dfb66d52
END:VEVENT
END:VCALENDAR
