BEGIN:VCALENDAR
PRODID:-//Session events Calendar//IBA//EN
CALSCALE:GREGORIAN
VERSION:2.0
BEGIN:VEVENT
DTSTAMP:20260422T020154Z
DTSTART:20221031T164500Z
DTEND:20221031T183000Z
SUMMARY:Antitrust Committee lunch
DESCRIPTION:Price: $215\n
LOCATION:Joe's Stone Crab
UID:1fe8a64e-1f64-4b5b-b6f5-f75bb3ca698a
END:VEVENT
END:VCALENDAR
