BEGIN:VCALENDAR
PRODID:-//Session events Calendar//IBA//EN
CALSCALE:GREGORIAN
VERSION:2.0
BEGIN:VEVENT
DTSTAMP:20260422T020026Z
DTSTART:20221031T163000Z
DTEND:20221031T183000Z
SUMMARY:Private Client Tax Committee lunch
DESCRIPTION:Price: $115\n\nBook social event\n
LOCATION:Astra
UID:1f494578-09c3-4a2e-88ce-e1b3f0b16229
END:VEVENT
END:VCALENDAR
