BEGIN:VCALENDAR
PRODID:-//Session events Calendar//IBA//EN
CALSCALE:GREGORIAN
VERSION:2.0
BEGIN:VEVENT
DTSTAMP:20260420T145930Z
DTSTART:20221124T180000Z
DTEND:20221124T200000Z
SUMMARY:Welcome Reception
DESCRIPTION:
LOCATION:
UID:f8258a46-e49a-4b7a-afaf-7199bf0010e8
END:VEVENT
END:VCALENDAR
