BEGIN:VCALENDAR
PRODID:-//Session events Calendar//IBA//EN
CALSCALE:GREGORIAN
VERSION:2.0
BEGIN:VEVENT
DTSTAMP:20260422T015903Z
DTSTART:20221104T233000Z
DTEND:20221105T023000Z
SUMMARY:Closing Party
DESCRIPTION:No trip to Miami is complete without a visit a classic Miami 
 beach party. Enter the original Nikki Beach\, an iconic South Beach venu
 e that has been entertaining locals and visitors alike since 1998 and is
  a perfect backdrop to say farewell to Miami. An ideal evening for linen
  and sandals.\n\nEnter the largest beach patio in Miami\, a stunning out
 door space that offers spots for larger gatherings as well as nooks for 
 quiet conversation. A short stroll across the dunes will reveal the swee
 ping vista of the beach where you can watch the surf roll in.\n\nAs the 
 ocean air cools with the evening\, the night will heat up at Pearl\, the
  Nikki Beach nightclub. The ideal spot for dancing or relaxing on the ad
 jacent balcony that overlooks the entire venue and over the dunes to the
  ocean.\n\nPrice: $195\n
LOCATION:Nikki Beach Miami Beach
UID:b90233f9-6f55-44a1-aa33-9749a6ce2452
END:VEVENT
END:VCALENDAR
