BEGIN:VCALENDAR
PRODID:-//Session events Calendar//IBA//EN
CALSCALE:GREGORIAN
VERSION:2.0
BEGIN:VEVENT
DTSTAMP:20260422T020920Z
DTSTART:20221103T164500Z
DTEND:20221103T181500Z
SUMMARY:African Regional Forum lunch
DESCRIPTION:Price: $115\n\nBook social event\n
LOCATION:Room 228AB\, Level 2\, Miami Beach Convention Center
UID:28641b0e-55b7-42c8-9b1d-96f39aac7bbb
END:VEVENT
END:VCALENDAR
