BEGIN:VCALENDAR
PRODID:-//Session events Calendar//IBA//EN
CALSCALE:GREGORIAN
VERSION:2.0
BEGIN:VEVENT
DTSTAMP:20260422T015954Z
DTSTART:20221102T120000Z
DTEND:20221102T131500Z
SUMMARY:Managing Partners breakfast
DESCRIPTION:
LOCATION:
UID:5d315414-914d-4e9b-8526-2d0e073d8ec1
END:VEVENT
END:VCALENDAR
