BEGIN:VCALENDAR
PRODID:-//Session events Calendar//IBA//EN
CALSCALE:GREGORIAN
VERSION:2.0
BEGIN:VEVENT
DTSTAMP:20260422T015956Z
DTSTART:20221102T120000Z
DTEND:20221102T131500Z
SUMMARY:Corporate Counsel Forum breakfast
DESCRIPTION:
LOCATION:
UID:49a4a87e-0c44-4948-8747-6092a54c0043
END:VEVENT
END:VCALENDAR
