BEGIN:VCALENDAR
PRODID:-//Session events Calendar//IBA//EN
CALSCALE:GREGORIAN
VERSION:2.0
BEGIN:VEVENT
DTSTAMP:20260422T020004Z
DTSTART:20221102T164500Z
DTEND:20221102T181500Z
SUMMARY:Legal Practice Division Lunch
DESCRIPTION:Price: $115\n\nBook social event\n
LOCATION:Sunset Vista Ballroom D\, Level 4\, Miami Beach Convention Cente
 r
UID:dda2df63-d526-4a43-b68d-134006924eca
END:VEVENT
END:VCALENDAR
