BEGIN:VCALENDAR
PRODID:-//Session events Calendar//IBA//EN
CALSCALE:GREGORIAN
VERSION:2.0
BEGIN:VEVENT
DTSTAMP:20260422T020006Z
DTSTART:20221101T164500Z
DTEND:20221101T181500Z
SUMMARY:Latin American Regional Forum lunch
DESCRIPTION:Price: $115\n\nBook social event\n
LOCATION:Sunset Vista Ballrooms A+B\, Level 4\, Miami Beach Convention Ce
 nter
UID:88f41fbc-dfa8-48b6-8dc1-7d58598ded0b
END:VEVENT
END:VCALENDAR
