BEGIN:VCALENDAR
PRODID:-//Session events Calendar//IBA//EN
CALSCALE:GREGORIAN
VERSION:2.0
BEGIN:VEVENT
DTSTAMP:20260422T015954Z
DTSTART:20221101T164500Z
DTEND:20221101T181500Z
SUMMARY:Asia Pacific Regional Forum lunch
DESCRIPTION:Price: $115\n\nBook social event\n
LOCATION:Sunset Vista Ballroom D\, Level 4\, Miami Beach Convention Cente
 r
UID:28ddfd7d-000a-47a0-a903-5286d28481c1
END:VEVENT
END:VCALENDAR
