BEGIN:VCALENDAR
PRODID:-//Session events Calendar//IBA//EN
CALSCALE:GREGORIAN
VERSION:2.0
BEGIN:VEVENT
DTSTAMP:20260422T015956Z
DTSTART:20221101T120000Z
DTEND:20221101T131500Z
SUMMARY:Global women litigator breakfast
DESCRIPTION:
LOCATION:Sunset Ballroom A\, Level 4\, Miami Beach Convention Center
UID:b522945c-7227-4759-a8bc-4437a8cb37ca
END:VEVENT
END:VCALENDAR
