BEGIN:VCALENDAR
PRODID:-//Session events Calendar//IBA//EN
CALSCALE:GREGORIAN
VERSION:2.0
BEGIN:VEVENT
DTSTAMP:20260422T020007Z
DTSTART:20221031T164500Z
DTEND:20221031T181500Z
SUMMARY:Women Lawyers’ Committee lunch
DESCRIPTION:Price: $115\n\nBook social event\n
LOCATION:Sunset Vista Ballroom C\, Level 4\, Miami Beach Convention Cente
 r
UID:f4e8a917-3d27-44f1-b1c2-ac1f2a111052
END:VEVENT
END:VCALENDAR
