BEGIN:VCALENDAR
PRODID:-//Session events Calendar//IBA//EN
CALSCALE:GREGORIAN
VERSION:2.0
BEGIN:VEVENT
DTSTAMP:20260422T020006Z
DTSTART:20221031T164500Z
DTEND:20221031T181500Z
SUMMARY:North American Regional Forum lunch
DESCRIPTION:Price: $115\n\nBook social event\n
LOCATION:Sunset Vista Ballroom B\, Level 4\, Miami Beach Convention Centr
 e
UID:e09be166-ae31-486d-83bd-d9405b6f45b1
END:VEVENT
END:VCALENDAR
