BEGIN:VCALENDAR
PRODID:-//Session events Calendar//IBA//EN
CALSCALE:GREGORIAN
VERSION:2.0
BEGIN:VEVENT
DTSTAMP:20260422T015956Z
DTSTART:20221031T164500Z
DTEND:20221031T181500Z
SUMMARY:European Regional Forum lunch
DESCRIPTION:Price: $115\n\nBook social event\n
LOCATION:Sunset Vista Ballroom A\, Level 4\, Miami Beach Convention Cente
 r
UID:4c96f621-9e16-4541-af81-a769d2354458
END:VEVENT
END:VCALENDAR
