BEGIN:VCALENDAR
PRODID:-//Session events Calendar//IBA//EN
CALSCALE:GREGORIAN
VERSION:2.0
BEGIN:VEVENT
DTSTAMP:20260422T015904Z
DTSTART:20221031T164500Z
DTEND:20221031T181500Z
SUMMARY:Arab Regional Forum Lunch
DESCRIPTION:Price: $115\n\nBook social event\n
LOCATION:Sunset Vista Ballroom D\, Level 4\, Miami Beach Convention Cente
 r
UID:1c512970-9bf8-4956-8ac3-d4973cedc914
END:VEVENT
END:VCALENDAR
