BEGIN:VCALENDAR
PRODID:-//Session events Calendar//IBA//EN
CALSCALE:GREGORIAN
VERSION:2.0
BEGIN:VEVENT
DTSTAMP:20260422T020024Z
DTSTART:20221102T103500Z
DTEND:20221103T103500Z
SUMMARY:Tour test
DESCRIPTION:Book social event
LOCATION:
UID:13f1ef04-166b-4716-9489-7b9f6b992c87
END:VEVENT
END:VCALENDAR
