BEGIN:VCALENDAR
PRODID:-//Session events Calendar//IBA//EN
CALSCALE:GREGORIAN
VERSION:2.0
BEGIN:VEVENT
DTSTAMP:20260420T144953Z
DTSTART:20260521T140000Z
DTEND:20260521T150000Z
SUMMARY:Forum for Barristers and Advocates Officers meeting
DESCRIPTION:Forum for Barristers and Advocates Officers only
LOCATION:
UID:16446e38-6cc5-4c73-b5f7-83876bf9a9d0
END:VEVENT
END:VCALENDAR
