BEGIN:VCALENDAR
PRODID:-//Session events Calendar//IBA//EN
CALSCALE:GREGORIAN
VERSION:2.0
BEGIN:VEVENT
DTSTAMP:20260420T151513Z
DTSTART:20260408T230000Z
DTEND:20260408T233000Z
SUMMARY:Welcome coffee/tea
DESCRIPTION:
LOCATION:
UID:64e4241b-2a4e-48a3-8308-f9897c656074
END:VEVENT
END:VCALENDAR
