BEGIN:VCALENDAR
PRODID:-//Session events Calendar//IBA//EN
CALSCALE:GREGORIAN
VERSION:2.0
BEGIN:VEVENT
DTSTAMP:20260420T145100Z
DTSTART:20260522T063000Z
DTEND:20260522T073000Z
SUMMARY:BIC Regulations Committee Officers meeting
DESCRIPTION:BIC Regulation Committee Officers only
LOCATION:
UID:4c042695-9391-43ea-8be1-c192e099d420
END:VEVENT
END:VCALENDAR
