BEGIN:VCALENDAR
PRODID:-//Session events Calendar//IBA//EN
CALSCALE:GREGORIAN
VERSION:2.0
BEGIN:VEVENT
DTSTAMP:20260420T145100Z
DTSTART:20260522T073000Z
DTEND:20260522T093000Z
SUMMARY:Seoul IPCT Conference Organising Committee meeting
DESCRIPTION:By invitation only
LOCATION:
UID:ee25cbf4-7b1f-46d7-9788-bc040e90f0d6
END:VEVENT
END:VCALENDAR
