BEGIN:VCALENDAR
PRODID:-//Session events Calendar//IBA//EN
CALSCALE:GREGORIAN
VERSION:2.0
BEGIN:VEVENT
DTSTAMP:20260420T145007Z
DTSTART:20260521T123000Z
DTEND:20260521T150000Z
SUMMARY:Anti-Corruption Committee Officers meeting
DESCRIPTION:Anti-Corruption Committee Officers only
LOCATION:
UID:accfaf84-9a7e-41bf-9ede-ebc6fa57dcae
END:VEVENT
END:VCALENDAR
