BEGIN:VCALENDAR
PRODID:-//Session events Calendar//IBA//EN
CALSCALE:GREGORIAN
VERSION:2.0
BEGIN:VEVENT
DTSTAMP:20260425T140631Z
DTSTART:20260418T074000Z
DTEND:20260418T074500Z
SUMMARY:Update from the IBA Section on Public and Professional Interest
DESCRIPTION:
LOCATION:
UID:b0dbde44-725e-4490-833a-b55252d32cf9
END:VEVENT
END:VCALENDAR
