BEGIN:VCALENDAR
PRODID:-//Session events Calendar//IBA//EN
CALSCALE:GREGORIAN
VERSION:2.0
BEGIN:VEVENT
DTSTAMP:20260422T111746Z
DTSTART:20260408T040500Z
DTEND:20260408T041500Z
SUMMARY:Welcome remarks
DESCRIPTION:
LOCATION:
UID:4f531ba7-4534-44f1-a1ac-41fab2ccaffe
END:VEVENT
END:VCALENDAR
