BEGIN:VCALENDAR
PRODID:-//Session events Calendar//IBA//EN
CALSCALE:GREGORIAN
VERSION:2.0
BEGIN:VEVENT
DTSTAMP:20260425T140631Z
DTSTART:20260418T063000Z
DTEND:20260418T154500Z
SUMMARY:Registration
DESCRIPTION:
LOCATION:
UID:27e6e4b4-59b8-4e9a-a0ec-a2111b01d20e
END:VEVENT
END:VCALENDAR
