BEGIN:VCALENDAR
PRODID:-//Session events Calendar//IBA//EN
CALSCALE:GREGORIAN
VERSION:2.0
BEGIN:VEVENT
DTSTAMP:20260420T151536Z
DTSTART:20260409T044000Z
DTEND:20260409T044500Z
SUMMARY:Address by IBA President
DESCRIPTION:
LOCATION:
UID:0d5ff0c4-d8b9-40be-8a9c-65f1d395a2a9
END:VEVENT
END:VCALENDAR
