BEGIN:VCALENDAR
PRODID:-//Session events Calendar//IBA//EN
CALSCALE:GREGORIAN
VERSION:2.0
BEGIN:VEVENT
DTSTAMP:20260420T151626Z
DTSTART:20260409T012000Z
DTEND:20260409T014000Z
SUMMARY:Fireside chat with US Treasury Assistant Secretary for Investment
  Security
DESCRIPTION:This fireside chat with the head of the US investment screeni
 ng authority will discuss the role and processes of the Committee on For
 eign Investment in the United States (CFIUS) as well as the Outbound Inv
 estment Security Program\, including practical considerations for counse
 l advising clients on making filings in the United States.
LOCATION:
UID:d223ef80-7df5-4446-b215-e5b882c23839
END:VEVENT
END:VCALENDAR
