BEGIN:VCALENDAR
PRODID:-//Session events Calendar//IBA//EN
CALSCALE:GREGORIAN
VERSION:2.0
BEGIN:VEVENT
DTSTAMP:20260422T113339Z
DTSTART:20260408T074500Z
DTEND:20260408T075500Z
SUMMARY:Closing remarks
DESCRIPTION:
LOCATION:Auditorium CREO
UID:7c6571ca-d6d6-4213-b673-3497eedae09a
END:VEVENT
END:VCALENDAR
