BEGIN:VCALENDAR
PRODID:-//Session events Calendar//IBA//EN
CALSCALE:GREGORIAN
VERSION:2.0
BEGIN:VEVENT
DTSTAMP:20260422T113433Z
DTSTART:20260408T061500Z
DTEND:20260408T074500Z
SUMMARY:Session two: A view from the general counsel’s office
DESCRIPTION:As businesses navigate heightened regulatory scrutiny and geo
 political uncertainty\, the general counsel’s office is expected to tran
 slate legal risk into business impact and support decision-making at spe
 ed. This panel will explore boardroom expectations from general counsel\
 , how in-house teams assess and prioritise regulatory and legal exposure
  and what ‘good’ looks like in external counsel support. It will also sh
 are practical guidance on building enduring general counsel relationship
 s and becoming the trusted\, go-to adviser.
LOCATION:Auditorium CREO
UID:e2a56a88-8839-40b0-8965-cb4877f5d7ee
END:VEVENT
END:VCALENDAR
