BEGIN:VCALENDAR
PRODID:-//Session events Calendar//IBA//EN
CALSCALE:GREGORIAN
VERSION:2.0
BEGIN:VEVENT
DTSTAMP:20260422T113535Z
DTSTART:20260408T054500Z
DTEND:20260408T061500Z
SUMMARY:Coffee/tea break
DESCRIPTION:
LOCATION:Auditorium CREO
UID:093b913b-d282-4ea3-964c-57a9379fd60f
END:VEVENT
END:VCALENDAR
