BEGIN:VCALENDAR
PRODID:-//Session events Calendar//IBA//EN
CALSCALE:GREGORIAN
VERSION:2.0
BEGIN:VEVENT
DTSTAMP:20260422T113433Z
DTSTART:20260408T041500Z
DTEND:20260408T054500Z
SUMMARY:Session one: M&A academy – preparing for the geopolitical and mac
 ro headwinds
DESCRIPTION:This panel will provide a practical and forward-looking overv
 iew of current trends and challenges in global M&amp\;A. The discussion 
 will focus on how geopolitical developments\, macroeconomic uncertainty 
 and regulatory changes are shaping deal-making across key jurisdictions.
  Drawing on perspectives from multiple regions\, the panel will explore 
 how senior associates and junior partners can anticipate risks\, adapt t
 ransaction strategies and add value to clients in an increasingly comple
 x environment.
LOCATION:Auditorium CREO
UID:0973fe52-ed0f-41bb-abf8-f924c59dcf8e
END:VEVENT
END:VCALENDAR
