BEGIN:VCALENDAR
PRODID:-//Session events Calendar//IBA//EN
CALSCALE:GREGORIAN
VERSION:2.0
BEGIN:VEVENT
DTSTAMP:20260422T113534Z
DTSTART:20260408T040000Z
DTEND:20260408T040500Z
SUMMARY:Opening remarks
DESCRIPTION:
LOCATION:Auditorium CREO
UID:31e29483-3b08-48da-ba49-c2aa656d99b9
END:VEVENT
END:VCALENDAR
