BEGIN:VCALENDAR
PRODID:-//Session events Calendar//IBA//EN
CALSCALE:GREGORIAN
VERSION:2.0
BEGIN:VEVENT
DTSTAMP:20260420T090833Z
DTSTART:20260304T104000Z
DTEND:20260304T105000Z
SUMMARY:Welcome remarks
DESCRIPTION:Arthur Stüssi will not be attending the conference in person\
 ; however\, a pre-recorded video message will be presented during the We
 lcome remarks.\n
LOCATION:
UID:d717100f-026f-4556-a702-8d7005988f8f
END:VEVENT
END:VCALENDAR
