BEGIN:VCALENDAR
PRODID:-//Session events Calendar//IBA//EN
CALSCALE:GREGORIAN
VERSION:2.0
BEGIN:VEVENT
DTSTAMP:20260425T135757Z
DTSTART:20260418T074500Z
DTEND:20260418T084500Z
SUMMARY:A conversation with … Andriy Kostin
DESCRIPTION:Speakers\n\nMark EllisExecutive Director\, International Bar 
 Association\, London\n\nAndriy KostinAmbassador Extraordinary and Plenip
 otentiary of Ukraine to the Kingdom of the Netherlands\; Kyiv\; former P
 rosecutor General of Ukraine\n
LOCATION:
UID:2a64d025-e2ab-4ffe-9611-c582789b5028
END:VEVENT
END:VCALENDAR
