BEGIN:VCALENDAR
PRODID:-//Session events Calendar//IBA//EN
CALSCALE:GREGORIAN
VERSION:2.0
BEGIN:VEVENT
DTSTAMP:20260420T085639Z
DTSTART:20260209T004000Z
DTEND:20260209T004500Z
SUMMARY:Welcome remarks by IBA LPD Secretary-Treasurer / IBA Treasurer
DESCRIPTION:
LOCATION:
UID:c3389140-bf37-4269-9cab-56bac3e2d156
END:VEVENT
END:VCALENDAR
