BEGIN:VCALENDAR
PRODID:-//Session events Calendar//IBA//EN
CALSCALE:GREGORIAN
VERSION:2.0
BEGIN:VEVENT
DTSTAMP:20260420T151513Z
DTSTART:20260410T034500Z
DTEND:20260410T040000Z
SUMMARY:Closing remarks
DESCRIPTION:
LOCATION:
UID:bdb73e58-7c06-4832-a232-3c9f5da70f4a
END:VEVENT
END:VCALENDAR
