BEGIN:VCALENDAR
PRODID:-//Session events Calendar//IBA//EN
CALSCALE:GREGORIAN
VERSION:2.0
BEGIN:VEVENT
DTSTAMP:20260420T151443Z
DTSTART:20260410T011500Z
DTEND:20260410T014500Z
SUMMARY:Coffee/tea break
DESCRIPTION:
LOCATION:
UID:2ec529ff-c39c-426d-ae24-3c197a592d67
END:VEVENT
END:VCALENDAR
