BEGIN:VCALENDAR
PRODID:-//Session events Calendar//IBA//EN
CALSCALE:GREGORIAN
VERSION:2.0
BEGIN:VEVENT
DTSTAMP:20260420T151536Z
DTSTART:20260409T071500Z
DTEND:20260409T074500Z
SUMMARY:Coffee/tea break
DESCRIPTION:
LOCATION:
UID:63043709-39ae-41f9-b670-1042f3106372
END:VEVENT
END:VCALENDAR
