BEGIN:VCALENDAR
PRODID:-//Session events Calendar//IBA//EN
CALSCALE:GREGORIAN
VERSION:2.0
BEGIN:VEVENT
DTSTAMP:20260420T151626Z
DTSTART:20260409T034000Z
DTEND:20260409T044000Z
SUMMARY:Lunch
DESCRIPTION:
LOCATION:
UID:02a5b4fe-722b-4f8b-9cae-adbf9af68178
END:VEVENT
END:VCALENDAR
