BEGIN:VCALENDAR
PRODID:-//Session events Calendar//IBA//EN
CALSCALE:GREGORIAN
VERSION:2.0
BEGIN:VEVENT
DTSTAMP:20260420T151605Z
DTSTART:20260409T020000Z
DTEND:20260409T023000Z
SUMMARY:Standalone speech
DESCRIPTION:
LOCATION:
UID:335ac730-4f04-413c-aaa4-0b857b346587
END:VEVENT
END:VCALENDAR
