BEGIN:VCALENDAR
PRODID:-//Session events Calendar//IBA//EN
CALSCALE:GREGORIAN
VERSION:2.0
BEGIN:VEVENT
DTSTAMP:20260420T151605Z
DTSTART:20260409T014000Z
DTEND:20260409T020000Z
SUMMARY:Coffee/tea break
DESCRIPTION:
LOCATION:
UID:e458fe40-3f3f-4bbf-a48a-a23edb9ee03e
END:VEVENT
END:VCALENDAR
